BEGIN:VCALENDAR
VERSION:2.0
PRODID:-//Bürger- und Heimatverein Dötlingen e.V. - ECPv6.15.13//NONSGML v1.0//EN
CALSCALE:GREGORIAN
METHOD:PUBLISH
X-WR-CALNAME:Bürger- und Heimatverein Dötlingen e.V.
X-ORIGINAL-URL:https://www.bhv-doetlingen.de
X-WR-CALDESC:Veranstaltungen für Bürger- und Heimatverein Dötlingen e.V.
REFRESH-INTERVAL;VALUE=DURATION:PT1H
X-Robots-Tag:noindex
X-PUBLISHED-TTL:PT1H
BEGIN:VTIMEZONE
TZID:Europe/Berlin
BEGIN:DAYLIGHT
TZOFFSETFROM:+0100
TZOFFSETTO:+0200
TZNAME:CEST
DTSTART:20250330T010000
END:DAYLIGHT
BEGIN:STANDARD
TZOFFSETFROM:+0200
TZOFFSETTO:+0100
TZNAME:CET
DTSTART:20251026T010000
END:STANDARD
BEGIN:DAYLIGHT
TZOFFSETFROM:+0100
TZOFFSETTO:+0200
TZNAME:CEST
DTSTART:20260329T010000
END:DAYLIGHT
BEGIN:STANDARD
TZOFFSETFROM:+0200
TZOFFSETTO:+0100
TZNAME:CET
DTSTART:20261025T010000
END:STANDARD
BEGIN:DAYLIGHT
TZOFFSETFROM:+0100
TZOFFSETTO:+0200
TZNAME:CEST
DTSTART:20270328T010000
END:DAYLIGHT
BEGIN:STANDARD
TZOFFSETFROM:+0200
TZOFFSETTO:+0100
TZNAME:CET
DTSTART:20271031T010000
END:STANDARD
END:VTIMEZONE
BEGIN:VEVENT
DTSTART;TZID=Europe/Berlin:20260926T130000
DTEND;TZID=Europe/Berlin:20260926T220000
DTSTAMP:20260421T141822
CREATED:20260106T202443Z
LAST-MODIFIED:20260106T202443Z
UID:2515-1790427600-1790460000@www.bhv-doetlingen.de
SUMMARY:Erntedankfest
DESCRIPTION:Auch in diesem Jahr wollen wir wieder unser Erntefest mit euch feiern. \nWir sind gerade in der Planung… \nder Ablaufplan folgt….. \nHier schon mal ein kleiner Bericht vom letzten Jahr… \nhttps://www.kreiszeitung.de/lokales/oldenburg/doetlingen-ort49924/so-feiern-die-doetlinger-erntefest-familienbus-gewinnt-preis-93958586.html?utm_source=_shared&utm_medium=west&utm_campaign=interactionbar \n 
URL:https://www.bhv-doetlingen.de/veranstaltung/erntedankfest-2/
LOCATION:Niedersachsen
ATTACH;FMTTYPE=image/jpeg:https://www.bhv-doetlingen.de/wp-content/uploads/2026/01/BHV_Plakat_Erntedankfest-2026.jpg
END:VEVENT
END:VCALENDAR