BEGIN:VCALENDAR
VERSION:2.0
PRODID:-//Bürger- und Heimatverein Dötlingen e.V. - ECPv6.15.13//NONSGML v1.0//EN
CALSCALE:GREGORIAN
METHOD:PUBLISH
X-WR-CALNAME:Bürger- und Heimatverein Dötlingen e.V.
X-ORIGINAL-URL:https://www.bhv-doetlingen.de
X-WR-CALDESC:Veranstaltungen für Bürger- und Heimatverein Dötlingen e.V.
REFRESH-INTERVAL;VALUE=DURATION:PT1H
X-Robots-Tag:noindex
X-PUBLISHED-TTL:PT1H
BEGIN:VTIMEZONE
TZID:Europe/Berlin
BEGIN:DAYLIGHT
TZOFFSETFROM:+0100
TZOFFSETTO:+0200
TZNAME:CEST
DTSTART:20220327T010000
END:DAYLIGHT
BEGIN:STANDARD
TZOFFSETFROM:+0200
TZOFFSETTO:+0100
TZNAME:CET
DTSTART:20221030T010000
END:STANDARD
BEGIN:DAYLIGHT
TZOFFSETFROM:+0100
TZOFFSETTO:+0200
TZNAME:CEST
DTSTART:20230326T010000
END:DAYLIGHT
BEGIN:STANDARD
TZOFFSETFROM:+0200
TZOFFSETTO:+0100
TZNAME:CET
DTSTART:20231029T010000
END:STANDARD
BEGIN:DAYLIGHT
TZOFFSETFROM:+0100
TZOFFSETTO:+0200
TZNAME:CEST
DTSTART:20240331T010000
END:DAYLIGHT
BEGIN:STANDARD
TZOFFSETFROM:+0200
TZOFFSETTO:+0100
TZNAME:CET
DTSTART:20241027T010000
END:STANDARD
END:VTIMEZONE
BEGIN:VEVENT
DTSTART;VALUE=DATE:20231119
DTEND;VALUE=DATE:20231120
DTSTAMP:20260425T060116
CREATED:20230601T072115Z
LAST-MODIFIED:20231123T195847Z
UID:886-1700352000-1700438399@www.bhv-doetlingen.de
SUMMARY:Volkstrauertag
DESCRIPTION:Kranzniederlegung
URL:https://www.bhv-doetlingen.de/veranstaltung/volkstrauertag/
LOCATION:St. Friminus Kirche\, Dorfring 23\, Dötlingen\, 27801\, Deutschland
CATEGORIES:Veranstaltungen
ATTACH;FMTTYPE=image/jpeg:https://www.bhv-doetlingen.de/wp-content/uploads/2017/07/IMG_9879-1024x683.jpg
ORGANIZER;CN="B%C3%BCrger- und Heimatverein e.V.":MAILTO:info@bhv-doetlingen.de
END:VEVENT
BEGIN:VEVENT
DTSTART;VALUE=DATE:20231129
DTEND;VALUE=DATE:20231130
DTSTAMP:20260425T060116
CREATED:20230607T083843Z
LAST-MODIFIED:20231123T195847Z
UID:903-1701216000-1701302399@www.bhv-doetlingen.de
SUMMARY:Plattdeutscher Abend mit Gerold Schnier
DESCRIPTION:
URL:https://www.bhv-doetlingen.de/veranstaltung/plattdeutscher-abend-im-puettenhus-3/
LOCATION:Püttenhus\, Heideweg 3\, Dötlingen\, Niedersachsen\, 27801\, Germany
CATEGORIES:Veranstaltungen
ATTACH;FMTTYPE=image/jpeg:https://www.bhv-doetlingen.de/wp-content/uploads/2023/06/Gerold_Schnier.jpg
ORGANIZER;CN="B%C3%BCrger- und Heimatverein e.V.":MAILTO:info@bhv-doetlingen.de
END:VEVENT
END:VCALENDAR