BEGIN:VCALENDAR
VERSION:2.0
PRODID:-//Bürger- und Heimatverein Dötlingen e.V. - ECPv6.15.13//NONSGML v1.0//EN
CALSCALE:GREGORIAN
METHOD:PUBLISH
X-WR-CALNAME:Bürger- und Heimatverein Dötlingen e.V.
X-ORIGINAL-URL:https://www.bhv-doetlingen.de
X-WR-CALDESC:Veranstaltungen für Bürger- und Heimatverein Dötlingen e.V.
REFRESH-INTERVAL;VALUE=DURATION:PT1H
X-Robots-Tag:noindex
X-PUBLISHED-TTL:PT1H
BEGIN:VTIMEZONE
TZID:Europe/Berlin
BEGIN:DAYLIGHT
TZOFFSETFROM:+0100
TZOFFSETTO:+0200
TZNAME:CEST
DTSTART:20250330T010000
END:DAYLIGHT
BEGIN:STANDARD
TZOFFSETFROM:+0200
TZOFFSETTO:+0100
TZNAME:CET
DTSTART:20251026T010000
END:STANDARD
BEGIN:DAYLIGHT
TZOFFSETFROM:+0100
TZOFFSETTO:+0200
TZNAME:CEST
DTSTART:20260329T010000
END:DAYLIGHT
BEGIN:STANDARD
TZOFFSETFROM:+0200
TZOFFSETTO:+0100
TZNAME:CET
DTSTART:20261025T010000
END:STANDARD
BEGIN:DAYLIGHT
TZOFFSETFROM:+0100
TZOFFSETTO:+0200
TZNAME:CEST
DTSTART:20270328T010000
END:DAYLIGHT
BEGIN:STANDARD
TZOFFSETFROM:+0200
TZOFFSETTO:+0100
TZNAME:CET
DTSTART:20271031T010000
END:STANDARD
END:VTIMEZONE
BEGIN:VEVENT
DTSTART;TZID=Europe/Berlin:20261213T120000
DTEND;TZID=Europe/Berlin:20261213T180000
DTSTAMP:20260421T204427
CREATED:20260106T203356Z
LAST-MODIFIED:20260106T203356Z
UID:2518-1797163200-1797184800@www.bhv-doetlingen.de
SUMMARY:Weihnachtsmarkt
DESCRIPTION:Jedes Jahr am 3.  Advent\, im wunderschönen Dötlingen. \nAlle sind herzlich eingeladen! \nStandanmeldungen unter: Weihnachtsmarkt.doetlingen@gmail.com
URL:https://www.bhv-doetlingen.de/veranstaltung/weihnachtsmarkt-3/
LOCATION:Niedersachsen
ATTACH;FMTTYPE=image/jpeg:https://www.bhv-doetlingen.de/wp-content/uploads/2026/01/Kalenderbild.jpg
END:VEVENT
END:VCALENDAR