BEGIN:VCALENDAR
VERSION:2.0
PRODID:-//Bürger- und Heimatverein Dötlingen e.V. - ECPv6.15.13//NONSGML v1.0//EN
CALSCALE:GREGORIAN
METHOD:PUBLISH
X-WR-CALNAME:Bürger- und Heimatverein Dötlingen e.V.
X-ORIGINAL-URL:https://www.bhv-doetlingen.de
X-WR-CALDESC:Veranstaltungen für Bürger- und Heimatverein Dötlingen e.V.
REFRESH-INTERVAL;VALUE=DURATION:PT1H
X-Robots-Tag:noindex
X-PUBLISHED-TTL:PT1H
BEGIN:VTIMEZONE
TZID:Europe/Berlin
BEGIN:DAYLIGHT
TZOFFSETFROM:+0100
TZOFFSETTO:+0200
TZNAME:CEST
DTSTART:20250330T010000
END:DAYLIGHT
BEGIN:STANDARD
TZOFFSETFROM:+0200
TZOFFSETTO:+0100
TZNAME:CET
DTSTART:20251026T010000
END:STANDARD
BEGIN:DAYLIGHT
TZOFFSETFROM:+0100
TZOFFSETTO:+0200
TZNAME:CEST
DTSTART:20260329T010000
END:DAYLIGHT
BEGIN:STANDARD
TZOFFSETFROM:+0200
TZOFFSETTO:+0100
TZNAME:CET
DTSTART:20261025T010000
END:STANDARD
BEGIN:DAYLIGHT
TZOFFSETFROM:+0100
TZOFFSETTO:+0200
TZNAME:CEST
DTSTART:20270328T010000
END:DAYLIGHT
BEGIN:STANDARD
TZOFFSETFROM:+0200
TZOFFSETTO:+0100
TZNAME:CET
DTSTART:20271031T010000
END:STANDARD
END:VTIMEZONE
BEGIN:VEVENT
DTSTART;TZID=Europe/Berlin:20261024T100000
DTEND;TZID=Europe/Berlin:20261024T160000
DTSTAMP:20260421T174725
CREATED:20260307T142902Z
LAST-MODIFIED:20260329T190930Z
UID:2561-1792836000-1792857600@www.bhv-doetlingen.de
SUMMARY:Apfelmostfest
DESCRIPTION:Es gibt gute Neuigkeiten: Das Apfelmostfest findet in diesem Jahr doch wieder statt! \nAnders als in den vergangenen Jahren wird die Veranstaltung jedoch nicht auf Hof Hoheisel\, sondern auf dem Spargelhof Ulrich (Walschenkampsweg 3\, 27801 Dötlingen) stattfinden. Dort habt ihr die Möglichkeit\, eure Äpfel zu frischem Saft pressen zu lassen. \nGemeinsam mit Ollis Saftladen begrüßen wir ab 10 Uhr alle Mitglieder sowie auch Nichtmitglieder des Bürger- und Heimatvereins Dötlingen. Ihr seid herzlich eingeladen\, euer Obst mitzubringen und pressen zu lassen. \nAußerdem sind wir noch auf der Suche nach Standbetreiberinnen und Standbetreibern\, die unser Apfelmostfest mit einem passenden Angebot bereichern möchten. Ob regionale Produkte\, Handgemachtes\, herbstliche Dekorationen\, kulinarische Kleinigkeiten oder andere thematisch passende Stände – wir freuen uns über vielfältige Beiträge. Die Teilnahme ist gegen eine kleine Standgebühr möglich. \nBitte achtet darauf\, vorab Blätter und Äste von eurem mitgebrachten Obst zu entfernen.
URL:https://www.bhv-doetlingen.de/veranstaltung/apfelmostfest-2/
LOCATION:Spargelhof Ulrich\, Walschenkampsweg 3\, Dötllingen\, Niedersachsen\, Germany
ATTACH;FMTTYPE=image/jpeg:https://www.bhv-doetlingen.de/wp-content/uploads/2026/03/Apfelmostfest-Plakat-2026-scaled.jpg
END:VEVENT
END:VCALENDAR