BEGIN:VCALENDAR
VERSION:2.0
PRODID:-//Bürger- und Heimatverein Dötlingen e.V. - ECPv6.15.13//NONSGML v1.0//EN
CALSCALE:GREGORIAN
METHOD:PUBLISH
X-WR-CALNAME:Bürger- und Heimatverein Dötlingen e.V.
X-ORIGINAL-URL:https://www.bhv-doetlingen.de
X-WR-CALDESC:Veranstaltungen für Bürger- und Heimatverein Dötlingen e.V.
REFRESH-INTERVAL;VALUE=DURATION:PT1H
X-Robots-Tag:noindex
X-PUBLISHED-TTL:PT1H
BEGIN:VTIMEZONE
TZID:Europe/Berlin
BEGIN:DAYLIGHT
TZOFFSETFROM:+0100
TZOFFSETTO:+0200
TZNAME:CEST
DTSTART:20250330T010000
END:DAYLIGHT
BEGIN:STANDARD
TZOFFSETFROM:+0200
TZOFFSETTO:+0100
TZNAME:CET
DTSTART:20251026T010000
END:STANDARD
BEGIN:DAYLIGHT
TZOFFSETFROM:+0100
TZOFFSETTO:+0200
TZNAME:CEST
DTSTART:20260329T010000
END:DAYLIGHT
BEGIN:STANDARD
TZOFFSETFROM:+0200
TZOFFSETTO:+0100
TZNAME:CET
DTSTART:20261025T010000
END:STANDARD
BEGIN:DAYLIGHT
TZOFFSETFROM:+0100
TZOFFSETTO:+0200
TZNAME:CEST
DTSTART:20270328T010000
END:DAYLIGHT
BEGIN:STANDARD
TZOFFSETFROM:+0200
TZOFFSETTO:+0100
TZNAME:CET
DTSTART:20271031T010000
END:STANDARD
END:VTIMEZONE
BEGIN:VEVENT
DTSTART;TZID=Europe/Berlin:20260328T140000
DTEND;TZID=Europe/Berlin:20260328T170000
DTSTAMP:20260421T113843
CREATED:20260106T195706Z
LAST-MODIFIED:20260106T195706Z
UID:2505-1774706400-1774717200@www.bhv-doetlingen.de
SUMMARY:Aktion saubere Landschaft
DESCRIPTION:Engagierte Bürger braucht das Dorf\, die mithelfen bei der \n„Aktion Saubere Landschaft“ \nWir treffen uns an der Dorfeiche. \nWer hilft\, bitte Handschuhe und kleine Eimer oder Müllsäcke mitbringen. \nVon 16-17 Uhr gibt es für jeden Teilnehmer Bratwurst und Getränke am Püttenhus.
URL:https://www.bhv-doetlingen.de/veranstaltung/aktion-saubere-landschaft-3/
LOCATION:Niedersachsen
ATTACH;FMTTYPE=image/jpeg:https://www.bhv-doetlingen.de/wp-content/uploads/2026/01/BHV_Plakat_Aktion-Saubere-Landschaft-2026.jpg
END:VEVENT
END:VCALENDAR